BEGIN:VCALENDAR
VERSION:2.0
PRODID:-//Siri Chilazi - ECPv6.15.20//NONSGML v1.0//EN
CALSCALE:GREGORIAN
METHOD:PUBLISH
X-ORIGINAL-URL:https://sirichilazi.com
X-WR-CALDESC:Events for Siri Chilazi
REFRESH-INTERVAL;VALUE=DURATION:PT1H
X-Robots-Tag:noindex
X-PUBLISHED-TTL:PT1H
BEGIN:VTIMEZONE
TZID:America/New_York
BEGIN:DAYLIGHT
TZOFFSETFROM:-0500
TZOFFSETTO:-0400
TZNAME:EDT
DTSTART:20250309T070000
END:DAYLIGHT
BEGIN:STANDARD
TZOFFSETFROM:-0400
TZOFFSETTO:-0500
TZNAME:EST
DTSTART:20251102T060000
END:STANDARD
BEGIN:DAYLIGHT
TZOFFSETFROM:-0500
TZOFFSETTO:-0400
TZNAME:EDT
DTSTART:20260308T070000
END:DAYLIGHT
BEGIN:STANDARD
TZOFFSETFROM:-0400
TZOFFSETTO:-0500
TZNAME:EST
DTSTART:20261101T060000
END:STANDARD
BEGIN:DAYLIGHT
TZOFFSETFROM:-0500
TZOFFSETTO:-0400
TZNAME:EDT
DTSTART:20270314T070000
END:DAYLIGHT
BEGIN:STANDARD
TZOFFSETFROM:-0400
TZOFFSETTO:-0500
TZNAME:EST
DTSTART:20271107T060000
END:STANDARD
END:VTIMEZONE
BEGIN:VEVENT
DTSTART;TZID=America/New_York:20260129T090000
DTEND;TZID=America/New_York:20260129T100000
DTSTAMP:20260420T130908
CREATED:20260131T230444Z
LAST-MODIFIED:20260131T230655Z
UID:1164-1769677200-1769680800@sirichilazi.com
SUMMARY:IFC – UN Women Webinar: Addressing Gender Data Gaps in the Private Sector
DESCRIPTION:Join us for a presentation of IFC and UN Women’s recently launched reports\, Closing the Gap: A Data Outlook on Women’s Economic Opportunities and Unfinished business: Private sector and gender equality\, followed by a moderated panel discussion bringing together perspectives on gender data disclosure from government\, the private sector\, and academia. \nSpeakers include: \n\nSiri Chilazi\, Senior Researcher\, Women and Public Policy Program\, Harvard University\nNamita Datta\, Principal Economist\, Policy & Regulations\, Gender\, World Bank Group\nJessica Espinoza\, CEO\, 2X Global\nAnna Fälth\, Head\, Women’s Empowerment Principles Secretariat\, UN Women\nMary Wooldridge\, CEO\, Workplace Gender Equality Agency (WGEA)\, Government of Australia\n\nThe event will be moderated by Michael O’Sullivan\, Lead Economist and Head of the Africa Gender Innovation Lab\, World Bank Group. \nRegister for this webinar online
URL:https://sirichilazi.com/event/ifc-un-women-webinar-addressing-gender-data-gaps-in-the-private-sector/
LOCATION:Microsoft Teams Webinar
END:VEVENT
BEGIN:VEVENT
DTSTART;TZID=America/New_York:20260209T110000
DTEND;TZID=America/New_York:20260209T120000
DTSTAMP:20260420T130908
CREATED:20260131T231625Z
LAST-MODIFIED:20260131T231625Z
UID:1171-1770634800-1770638400@sirichilazi.com
SUMMARY:Webinar: How to Change Company Culture – The 4T Model
DESCRIPTION:Join us to dive deeper into the insights from our recent Harvard Business Review article\, To Change Company Culture\, Start with One High-Impact Behavior. We will introduce our 4T model of change and discuss several case studies in depth. \nThe webinar will be hosted by James Elfer from MoreThanNow\, Siri Chilazi from the Women and Public Policy Program at Harvard Kennedy School\, and Edward Chang from Harvard Business School. \nRegister here to attend the webinar
URL:https://sirichilazi.com/event/webinar-how-to-change-company-culture-the-4t-model/
LOCATION:Microsoft Teams Webinar
END:VEVENT
BEGIN:VEVENT
DTSTART;VALUE=DATE:20260610
DTEND;VALUE=DATE:20260612
DTSTAMP:20260420T130908
CREATED:20260131T232951Z
LAST-MODIFIED:20260131T233142Z
UID:1175-1781049600-1781222399@sirichilazi.com
SUMMARY:Perspektywy Women in Tech Summit 2026
DESCRIPTION:Perspektywy Women in Tech Summit 2026 is the biggest conference and career fair for women in tech in Europe. \nView event details and purchase your tickets here
URL:https://sirichilazi.com/event/perspektywy-women-in-tech-summit-2026/
LOCATION:Expo XXI\, Ignacego Prądzyńskiego 12/14\, Warsaw\, 01-222\, Poland
ORGANIZER;CN="Perspektywy Education Foundation":MAILTO:contact@womenintechsummit.pl
END:VEVENT
END:VCALENDAR